BEGIN:VCALENDAR
VERSION:2.0
PRODID:-//Freiwillige Feuerwehr Simonshofen - ECPv6.15.20//NONSGML v1.0//EN
CALSCALE:GREGORIAN
METHOD:PUBLISH
X-ORIGINAL-URL:http://ffw-simonshofen.de
X-WR-CALDESC:Veranstaltungen für Freiwillige Feuerwehr Simonshofen
REFRESH-INTERVAL;VALUE=DURATION:PT1H
X-Robots-Tag:noindex
X-PUBLISHED-TTL:PT1H
BEGIN:VTIMEZONE
TZID:Europe/Berlin
BEGIN:DAYLIGHT
TZOFFSETFROM:+0100
TZOFFSETTO:+0200
TZNAME:CEST
DTSTART:20250330T010000
END:DAYLIGHT
BEGIN:STANDARD
TZOFFSETFROM:+0200
TZOFFSETTO:+0100
TZNAME:CET
DTSTART:20251026T010000
END:STANDARD
BEGIN:DAYLIGHT
TZOFFSETFROM:+0100
TZOFFSETTO:+0200
TZNAME:CEST
DTSTART:20260329T010000
END:DAYLIGHT
BEGIN:STANDARD
TZOFFSETFROM:+0200
TZOFFSETTO:+0100
TZNAME:CET
DTSTART:20261025T010000
END:STANDARD
BEGIN:DAYLIGHT
TZOFFSETFROM:+0100
TZOFFSETTO:+0200
TZNAME:CEST
DTSTART:20270328T010000
END:DAYLIGHT
BEGIN:STANDARD
TZOFFSETFROM:+0200
TZOFFSETTO:+0100
TZNAME:CET
DTSTART:20271031T010000
END:STANDARD
BEGIN:DAYLIGHT
TZOFFSETFROM:+0100
TZOFFSETTO:+0200
TZNAME:CEST
DTSTART:20280326T010000
END:DAYLIGHT
BEGIN:STANDARD
TZOFFSETFROM:+0200
TZOFFSETTO:+0100
TZNAME:CET
DTSTART:20281029T010000
END:STANDARD
END:VTIMEZONE
BEGIN:VEVENT
DTSTART;TZID=Europe/Berlin:20260720T190000
DTEND;TZID=Europe/Berlin:20260720T210000
DTSTAMP:20260420T115443
CREATED:20260330T173931Z
LAST-MODIFIED:20260330T174743Z
UID:1870-1784574000-1784581200@ffw-simonshofen.de
SUMMARY:Übung aktive Wehr
DESCRIPTION:
URL:http://ffw-simonshofen.de/event/uebung-aktive-wehr-7-26/
LOCATION:Feuerwehrhaus Simonshofen\, Hopfenstraße 38A\, 91207 Lauf - Simonshofen
CATEGORIES:Übung aktive Wehr
END:VEVENT
BEGIN:VEVENT
DTSTART;TZID=Europe/Berlin:20260725T000000
DTEND;TZID=Europe/Berlin:20260726T235959
DTSTAMP:20260420T115443
CREATED:20260209T183548Z
LAST-MODIFIED:20260209T183548Z
UID:1800-1784937600-1785110399@ffw-simonshofen.de
SUMMARY:Sportlerkirwa
DESCRIPTION:
URL:http://ffw-simonshofen.de/event/sportlerkirwa26/
LOCATION:Sportheim Simonshofen\, Hopfenstraße 51\, 91207 Lauf - Simonshofen
CATEGORIES:Öffentliche Veranstaltung
END:VEVENT
BEGIN:VEVENT
DTSTART;TZID=Europe/Berlin:20260727T183000
DTEND;TZID=Europe/Berlin:20260727T200000
DTSTAMP:20260420T115443
CREATED:20260209T190642Z
LAST-MODIFIED:20260209T193837Z
UID:1823-1785177000-1785182400@ffw-simonshofen.de
SUMMARY:Übung Jugendfeuerwehr
DESCRIPTION:
URL:http://ffw-simonshofen.de/event/uebung-jugendfeuerwehr-13-26/
LOCATION:Feuerwehrhaus Simonshofen\, Hopfenstraße 38A\, 91207 Lauf - Simonshofen
CATEGORIES:Übung Jugend
END:VEVENT
BEGIN:VEVENT
DTSTART;TZID=Europe/Berlin:20260810T183000
DTEND;TZID=Europe/Berlin:20260810T200000
DTSTAMP:20260420T115443
CREATED:20260209T190642Z
LAST-MODIFIED:20260209T193848Z
UID:1824-1786386600-1786392000@ffw-simonshofen.de
SUMMARY:Übung Jugendfeuerwehr
DESCRIPTION:
URL:http://ffw-simonshofen.de/event/uebung-jugendfeuerwehr-14-26/
LOCATION:Feuerwehrhaus Simonshofen\, Hopfenstraße 38A\, 91207 Lauf - Simonshofen
CATEGORIES:Übung Jugend
END:VEVENT
BEGIN:VEVENT
DTSTART;TZID=Europe/Berlin:20260911T000000
DTEND;TZID=Europe/Berlin:20260913T235959
DTSTAMP:20260420T115443
CREATED:20260209T183639Z
LAST-MODIFIED:20260209T183639Z
UID:1802-1789084800-1789343999@ffw-simonshofen.de
SUMMARY:Dorfkirwa Simonshofen
DESCRIPTION:
URL:http://ffw-simonshofen.de/event/dorfkirwa-simonshofen26/
LOCATION:Simonshofen Mitte\, Apfelgartenstraße\, 91207 Lauf - Simonshofen
CATEGORIES:Öffentliche Veranstaltung
END:VEVENT
BEGIN:VEVENT
DTSTART;TZID=Europe/Berlin:20260921T183000
DTEND;TZID=Europe/Berlin:20260921T200000
DTSTAMP:20260420T115443
CREATED:20260209T190642Z
LAST-MODIFIED:20260209T193907Z
UID:1825-1790015400-1790020800@ffw-simonshofen.de
SUMMARY:Übung Jugendfeuerwehr
DESCRIPTION:
URL:http://ffw-simonshofen.de/event/uebung-jugendfeuerwehr-15-2/
LOCATION:Feuerwehrhaus Dehnberg\, Höflas 3\, 91207 Lauf - Dehnberg
CATEGORIES:Übung Jugend
END:VEVENT
BEGIN:VEVENT
DTSTART;TZID=Europe/Berlin:20260928T190000
DTEND;TZID=Europe/Berlin:20260928T210000
DTSTAMP:20260420T115443
CREATED:20260330T173932Z
LAST-MODIFIED:20260330T174711Z
UID:1871-1790622000-1790629200@ffw-simonshofen.de
SUMMARY:Übung aktive Wehr
DESCRIPTION:
URL:http://ffw-simonshofen.de/event/uebung-aktive-wehr-9-26/
LOCATION:Feuerwehrhaus Simonshofen\, Hopfenstraße 38A\, 91207 Lauf - Simonshofen
CATEGORIES:Übung aktive Wehr
END:VEVENT
BEGIN:VEVENT
DTSTART;TZID=Europe/Berlin:20261003T000000
DTEND;TZID=Europe/Berlin:20261003T235959
DTSTAMP:20260420T115443
CREATED:20260209T183726Z
LAST-MODIFIED:20260209T183726Z
UID:1804-1790985600-1791071999@ffw-simonshofen.de
SUMMARY:Weinabend
DESCRIPTION:
URL:http://ffw-simonshofen.de/event/weinabend26/
LOCATION:Sportheim Simonshofen\, Hopfenstraße 51\, 91207 Lauf - Simonshofen
CATEGORIES:Öffentliche Veranstaltung
END:VEVENT
BEGIN:VEVENT
DTSTART;TZID=Europe/Berlin:20261005T183000
DTEND;TZID=Europe/Berlin:20261005T200000
DTSTAMP:20260420T115443
CREATED:20260209T190642Z
LAST-MODIFIED:20260209T193634Z
UID:1826-1791225000-1791230400@ffw-simonshofen.de
SUMMARY:Übung Jugendfeuerwehr
DESCRIPTION:
URL:http://ffw-simonshofen.de/event/uebung-jugendfeuerwehr-16-26/
LOCATION:Feuerwehrhaus Dehnberg\, Höflas 3\, 91207 Lauf - Dehnberg
CATEGORIES:Übung Jugend
END:VEVENT
BEGIN:VEVENT
DTSTART;TZID=Europe/Berlin:20261019T183000
DTEND;TZID=Europe/Berlin:20261019T200000
DTSTAMP:20260420T115443
CREATED:20260209T190642Z
LAST-MODIFIED:20260209T194010Z
UID:1827-1792434600-1792440000@ffw-simonshofen.de
SUMMARY:Übung Jugendfeuerwehr
DESCRIPTION:
URL:http://ffw-simonshofen.de/event/uebung-jugendfeuerwehr-17-26/
LOCATION:Feuerwehrhaus Simonshofen\, Hopfenstraße 38A\, 91207 Lauf - Simonshofen
CATEGORIES:Übung Jugend
END:VEVENT
BEGIN:VEVENT
DTSTART;TZID=Europe/Berlin:20261024T180000
DTEND;TZID=Europe/Berlin:20261024T220000
DTSTAMP:20260420T115443
CREATED:20260202T132354Z
LAST-MODIFIED:20260202T132436Z
UID:1750-1792864800-1792879200@ffw-simonshofen.de
SUMMARY:Kameradschaftsabend
DESCRIPTION:
URL:http://ffw-simonshofen.de/event/kameradschaftsabend26/
LOCATION:Feuerwehrhaus Simonshofen\, Hopfenstraße 38A\, 91207 Lauf - Simonshofen
CATEGORIES:Interne Veranstaltung
END:VEVENT
BEGIN:VEVENT
DTSTART;TZID=Europe/Berlin:20261026T190000
DTEND;TZID=Europe/Berlin:20261026T210000
DTSTAMP:20260420T115443
CREATED:20260330T173933Z
LAST-MODIFIED:20260330T174643Z
UID:1872-1793041200-1793048400@ffw-simonshofen.de
SUMMARY:Übung aktive Wehr
DESCRIPTION:
URL:http://ffw-simonshofen.de/event/uebung-aktive-wehr-10-26/
LOCATION:Feuerwehrhaus Simonshofen\, Hopfenstraße 38A\, 91207 Lauf - Simonshofen
CATEGORIES:Übung aktive Wehr
END:VEVENT
BEGIN:VEVENT
DTSTART;TZID=Europe/Berlin:20261102T183000
DTEND;TZID=Europe/Berlin:20261102T200000
DTSTAMP:20260420T115443
CREATED:20260209T190657Z
LAST-MODIFIED:20260209T194023Z
UID:1828-1793644200-1793649600@ffw-simonshofen.de
SUMMARY:Übung Jugendfeuerwehr
DESCRIPTION:
URL:http://ffw-simonshofen.de/event/uebung-jugendfeuerwehr-18-26/
LOCATION:Feuerwehrhaus Simonshofen\, Hopfenstraße 38A\, 91207 Lauf - Simonshofen
CATEGORIES:Übung Jugend
END:VEVENT
BEGIN:VEVENT
DTSTART;TZID=Europe/Berlin:20261115T110000
DTEND;TZID=Europe/Berlin:20261115T123000
DTSTAMP:20260420T115443
CREATED:20260202T132828Z
LAST-MODIFIED:20260202T132828Z
UID:1757-1794740400-1794745800@ffw-simonshofen.de
SUMMARY:Volkstrauertag
DESCRIPTION:
URL:http://ffw-simonshofen.de/event/volkstrauertag26/
LOCATION:Kriegerdenkmal Simonshofen\, Hopfenstraße / Sandgasse\, 91207 Lauf - Simonshofen
CATEGORIES:Öffentliche Veranstaltung
END:VEVENT
BEGIN:VEVENT
DTSTART;TZID=Europe/Berlin:20261116T183000
DTEND;TZID=Europe/Berlin:20261116T200000
DTSTAMP:20260420T115443
CREATED:20260209T190657Z
LAST-MODIFIED:20260209T193549Z
UID:1829-1794853800-1794859200@ffw-simonshofen.de
SUMMARY:Übung Jugendfeuerwehr
DESCRIPTION:
URL:http://ffw-simonshofen.de/event/uebung-jugendfeuerwehr-19-26/
LOCATION:Feuerwehrhaus Dehnberg\, Höflas 3\, 91207 Lauf - Dehnberg
CATEGORIES:Übung Jugend
END:VEVENT
BEGIN:VEVENT
DTSTART;TZID=Europe/Berlin:20261121T170000
DTEND;TZID=Europe/Berlin:20261121T200000
DTSTAMP:20260420T115443
CREATED:20260202T132543Z
LAST-MODIFIED:20260202T134917Z
UID:1752-1795280400-1795291200@ffw-simonshofen.de
SUMMARY:Helferfest
DESCRIPTION:
URL:http://ffw-simonshofen.de/event/helferfest26/
LOCATION:Feuerwehrhaus Simonshofen\, Hopfenstraße 38A\, 91207 Lauf - Simonshofen
CATEGORIES:Interne Veranstaltung
END:VEVENT
BEGIN:VEVENT
DTSTART;TZID=Europe/Berlin:20261122T110000
DTEND;TZID=Europe/Berlin:20261122T123000
DTSTAMP:20260420T115443
CREATED:20260202T132935Z
LAST-MODIFIED:20260202T135105Z
UID:1759-1795345200-1795350600@ffw-simonshofen.de
SUMMARY:Totensonntag
DESCRIPTION:
URL:http://ffw-simonshofen.de/event/totensonntag26/
LOCATION:Friedhof Simonshofen\, Friedhof Hüllstraße\, 91207 Lauf - Simonshofen
CATEGORIES:Öffentliche Veranstaltung
END:VEVENT
BEGIN:VEVENT
DTSTART;TZID=Europe/Berlin:20261123T190000
DTEND;TZID=Europe/Berlin:20261123T210000
DTSTAMP:20260420T115443
CREATED:20260330T173933Z
LAST-MODIFIED:20260330T174616Z
UID:1873-1795460400-1795467600@ffw-simonshofen.de
SUMMARY:Übung aktive Wehr
DESCRIPTION:
URL:http://ffw-simonshofen.de/event/uebung-aktive-wehr-11-26/
LOCATION:Feuerwehrhaus Simonshofen\, Hopfenstraße 38A\, 91207 Lauf - Simonshofen
CATEGORIES:Übung aktive Wehr
END:VEVENT
BEGIN:VEVENT
DTSTART;TZID=Europe/Berlin:20261130T183000
DTEND;TZID=Europe/Berlin:20261130T200000
DTSTAMP:20260420T115443
CREATED:20260209T190657Z
LAST-MODIFIED:20260209T193535Z
UID:1830-1796063400-1796068800@ffw-simonshofen.de
SUMMARY:Übung Jugendfeuerwehr
DESCRIPTION:
URL:http://ffw-simonshofen.de/event/uebung-jugendfeuerwehr-20-26/
LOCATION:Feuerwehrhaus Dehnberg\, Höflas 3\, 91207 Lauf - Dehnberg
CATEGORIES:Übung Jugend
END:VEVENT
BEGIN:VEVENT
DTSTART;TZID=Europe/Berlin:20261206T160000
DTEND;TZID=Europe/Berlin:20261206T190000
DTSTAMP:20260420T115443
CREATED:20260202T132707Z
LAST-MODIFIED:20260202T134911Z
UID:1755-1796572800-1796583600@ffw-simonshofen.de
SUMMARY:Nikolaus
DESCRIPTION:
URL:http://ffw-simonshofen.de/event/nikolaus26/
LOCATION:Feuerwehrhaus Simonshofen\, Hopfenstraße 38A\, 91207 Lauf - Simonshofen
CATEGORIES:Öffentliche Veranstaltung
END:VEVENT
BEGIN:VEVENT
DTSTART;TZID=Europe/Berlin:20261214T183000
DTEND;TZID=Europe/Berlin:20261214T200000
DTSTAMP:20260420T115443
CREATED:20260209T190657Z
LAST-MODIFIED:20260209T194059Z
UID:1831-1797273000-1797278400@ffw-simonshofen.de
SUMMARY:Übung Jugendfeuerwehr
DESCRIPTION:Abschlussabend
URL:http://ffw-simonshofen.de/event/uebung-jugendfeuerwehr-21-26/
LOCATION:Feuerwehrhaus Dehnberg\, Höflas 3\, 91207 Lauf - Dehnberg
CATEGORIES:Übung Jugend
END:VEVENT
BEGIN:VEVENT
DTSTART;TZID=Europe/Berlin:20261220T170000
DTEND;TZID=Europe/Berlin:20261220T180000
DTSTAMP:20260420T115443
CREATED:20260202T133035Z
LAST-MODIFIED:20260202T134906Z
UID:1761-1797786000-1797789600@ffw-simonshofen.de
SUMMARY:Weihnachtssingen
DESCRIPTION:
URL:http://ffw-simonshofen.de/event/weihnachtssingen26/
LOCATION:Feuerwehrhaus Simonshofen\, Hopfenstraße 38A\, 91207 Lauf - Simonshofen
CATEGORIES:Öffentliche Veranstaltung
END:VEVENT
BEGIN:VEVENT
DTSTART;TZID=Europe/Berlin:20261221T190000
DTEND;TZID=Europe/Berlin:20261221T210000
DTSTAMP:20260420T115443
CREATED:20260330T173933Z
LAST-MODIFIED:20260330T174553Z
UID:1874-1797879600-1797886800@ffw-simonshofen.de
SUMMARY:Übung aktive Wehr
DESCRIPTION:
URL:http://ffw-simonshofen.de/event/uebung-aktive-wehr-12-26/
LOCATION:Feuerwehrhaus Simonshofen\, Hopfenstraße 38A\, 91207 Lauf - Simonshofen
CATEGORIES:Übung aktive Wehr
END:VEVENT
BEGIN:VEVENT
DTSTART;TZID=Europe/Berlin:20270125T190000
DTEND;TZID=Europe/Berlin:20270125T210000
DTSTAMP:20260420T115443
CREATED:20260330T173933Z
LAST-MODIFIED:20260330T174508Z
UID:1875-1800903600-1800910800@ffw-simonshofen.de
SUMMARY:Übung aktive Wehr
DESCRIPTION:
URL:http://ffw-simonshofen.de/event/uebung-aktive-wehr-1-27/
LOCATION:Feuerwehrhaus Simonshofen\, Hopfenstraße 38A\, 91207 Lauf - Simonshofen
CATEGORIES:Übung aktive Wehr
END:VEVENT
END:VCALENDAR